BEGIN:VCALENDAR
VERSION:2.0
PRODID:-//eventon.com NONSGML v1.0//EN
CALSCALE:GREGORIAN
METHOD:PUBLISH
BEGIN:VEVENT
UID:69e5ee8a70c5f
DTSTAMP:20260420T091450Z
DTSTART:20220917T110000Z
DTEND:20220918T025000Z
LOCATION:
SUMMARY:GANEPÃO UPDATE – PRE\,  PRO\,  SIMBIÓTICOS E PÓS-BIÓTICOS
DESCRIPTION:GANEPÃO UPDATE – PRE\,  PRO\,  SIMBIÓTICOS E PÓS-BIÓTICOS
  – O FUTURO ESTÁ AQUI Data: 17 de setembro de 2022\,  das 08h00 às 17h0
 0\,  100% online e ao vivo Informações: (11) 97879.0664 / secretaria@gane
 pao.com.br Programação e inscrição: www.ganepao.com.br 15% de desconto 
 para associados Sociedade Brasileira de Hepatologia – utilize o cupom[..]
 \nhttps://sbhepatologia.org.br/events/ganepao-update-pre-pro-simbioticos-e-
 pos-bioticos/
URL:https://sbhepatologia.org.br/events/ganepao-update-pre-pro-simbioticos-e-pos-bioticos/
END:VEVENT
END:VCALENDAR