BEGIN:VCALENDAR
VERSION:2.0
PRODID:-//eventon.com NONSGML v1.0//EN
CALSCALE:GREGORIAN
METHOD:PUBLISH
BEGIN:VEVENT
UID:69ea768d9c743
DTSTAMP:20260423T194413Z
DTSTART:20220729T130000Z
DTEND:20220729T170000Z
LOCATION:
SUMMARY:Julho Amarelo na Estação Grajaú (SP)
DESCRIPTION:Dia: 29 de julho Horário: 10:00 às 14:00 Local:  Estação G
 rajaú (LINHA 9 &#8211; Esmeralda) – São Paulo Serão realizados testes 
 rápidos gratuitos de hepatite B e C\,  além de orientações sobre as hep
 atites virais.\nhttps://sbhepatologia.org.br/events/julho-amarelo-na-estaca
 o-grajau-sp/
URL:https://sbhepatologia.org.br/events/julho-amarelo-na-estacao-grajau-sp/
END:VEVENT
END:VCALENDAR