BEGIN:VCALENDAR
VERSION:2.0
PRODID:-//eventon.com NONSGML v1.0//EN
CALSCALE:GREGORIAN
METHOD:PUBLISH
BEGIN:VEVENT
UID:69e5f01a0cda5
DTSTAMP:20260420T092130Z
DTSTART:20260307T113400Z
DTEND:20260307T160000Z
LOCATION:Auditório Fiocruz rua Waldemar Falcão\,  121
SUMMARY:Condutas na Síndrome Metabólica / MASLD
DESCRIPTION:A ABEF (Associação Baiana para Estudos do Fígado) já tem da
 ta para se reunir e realizar um simpósio multidisciplinar sobre MASLD\,  a
  síndrome metabólica. Será no dia 7 de março de 2026\,  das 8h às 13h\
 ,  em Salvador. O evento é gratuito e as inscrições já podem ser feitas
  no[..]\nhttps://sbhepatologia.org.br/events/condutas-na-sindrome-metabolic
 a-masld/
URL:https://sbhepatologia.org.br/events/condutas-na-sindrome-metabolica-masld/
END:VEVENT
END:VCALENDAR